BEGIN:VCALENDAR
VERSION:2.0
PRODID:-//wp-events-plugin.com//7.2.3.1//EN
TZID:America/New_York
X-WR-TIMEZONE:America/New_York
BEGIN:VEVENT
UID:1193@testsite.sbccsail.org
DTSTART;TZID=America/New_York:20240203T120000
DTEND;TZID=America/New_York:20240203T150000
DTSTAMP:20240102T222617Z
URL:https://testsite.sbccsail.org/events/installation-of-officers/
SUMMARY:Installation of Officers
DESCRIPTION:https://testsite.sbccsail.org/wp-content/uploads/2024/01/2024_I
 nstallation_V1.pdf\n\nOnline Payment System    \n\nRSVP  Mailing in a 
 Check\n\n&nbsp\;
CATEGORIES:Party
LOCATION:View Restaurant\, 3 Consuelo Pl \, Oakdale\, NY\, 11769\, United S
 tates
GEO:40.726724;-73.141922
X-APPLE-STRUCTURED-LOCATION;VALUE=URI;X-ADDRESS=3 Consuelo Pl \, Oakdale\, 
 NY\, 11769\, United States;X-APPLE-RADIUS=100;X-TITLE=View Restaurant:geo:
 40.726724,-73.141922
END:VEVENT
BEGIN:VTIMEZONE
TZID:America/New_York
X-LIC-LOCATION:America/New_York
BEGIN:STANDARD
DTSTART:20231105T010000
TZOFFSETFROM:-0400
TZOFFSETTO:-0500
TZNAME:EST
END:STANDARD
END:VTIMEZONE
END:VCALENDAR