BEGIN:VCALENDAR
VERSION:2.0
PRODID:-//wp-events-plugin.com//7.2.3.1//EN
TZID:America/New_York
X-WR-TIMEZONE:America/New_York
BEGIN:VEVENT
UID:978@testsite.sbccsail.org
DTSTART;TZID=America/New_York:20240125T190000
DTEND;TZID=America/New_York:20240125T210000
DTSTAMP:20240115T220613Z
URL:https://testsite.sbccsail.org/events/race-awards-party/
SUMMARY:Race Awards Party
DESCRIPTION:The Holidays are now over and the Regatta Committee has begun p
 lanning our racing schedule for 2023.\n\nStarting off our season (its an S
 BCC Regatta tradition!) is our 2023 Race Awards Party which will be on Thu
 rsday\, January 25rd 2024 at 7:00 9:00 PM at the Seagull Restaurant &amp\;
  Bar\, 301 Bergen Point Ave\, West Babylon\,  https://seagullrestaurantan
 dbar.com. \n\nWe have held our Awards Party at the Seagull the last few y
 ears. It’s a nice casual location on the water with friendly service and
  good food &amp\; drinks. There’s no cover charge and everyone’s invit
 ed- Racers &amp\; Cruisers . So come down and enjoy dinner or just hors de
 vours &amp\; a cocktail and cheer on our 2023 season race winners. Share a
  beer with old friends\, start making plans for the 2024 season and maybe 
 even pick up crew (or a crew spot) for some racing this summer.\n\nSo mark
  your calendars and I look forward to seeing you for our 2024 season kick-
 off party. Please give me a call if you have any questions.\n\nEnjoy\,\n\n
 Charlie Margeson\n\nSBCC Regatta Captain\n\n(631) 235-2965
CATEGORIES:Party
LOCATION:Sea Gull Restaurant\, 301 Bergen Ave\, Babylon\, United States
GEO:40.677901;-73.338951
X-APPLE-STRUCTURED-LOCATION;VALUE=URI;X-ADDRESS=301 Bergen Ave\, Babylon\, 
 United States;X-APPLE-RADIUS=100;X-TITLE=Sea Gull Restaurant:geo:40.677901
 ,-73.338951
END:VEVENT
BEGIN:VTIMEZONE
TZID:America/New_York
X-LIC-LOCATION:America/New_York
BEGIN:STANDARD
DTSTART:20231105T010000
TZOFFSETFROM:-0400
TZOFFSETTO:-0500
TZNAME:EST
END:STANDARD
END:VTIMEZONE
END:VCALENDAR