BEGIN:VCALENDAR
VERSION:2.0
PRODID:-//wp-events-plugin.com//7.2.3.1//EN
TZID:America/New_York
X-WR-TIMEZONE:America/New_York
BEGIN:VEVENT
UID:1361@testsite.sbccsail.org
DTSTART;TZID=America/New_York:20251213T180000
DTEND;TZID=America/New_York:20251213T180000
DTSTAMP:20251116T230209Z
URL:https://testsite.sbccsail.org/events/the-holiday-party/
SUMMARY:The Holiday Party
DESCRIPTION:https://testsite.sbccsail.org/wp-content/uploads/2025/11/2025-S
 BCC-Holiday-Party-v4.pdf
CATEGORIES:Party
LOCATION:Shandon Court East Islip\, 115 East Main Street\, East Islip\, NY\
 , 11730\, United States
GEO:40.732555;-73.185527
X-APPLE-STRUCTURED-LOCATION;VALUE=URI;X-ADDRESS=115 East Main Street\, East
  Islip\, NY\, 11730\, United States;X-APPLE-RADIUS=100;X-TITLE=Shandon Cou
 rt East Islip:geo:40.732555,-73.185527
END:VEVENT
BEGIN:VTIMEZONE
TZID:America/New_York
X-LIC-LOCATION:America/New_York
BEGIN:STANDARD
DTSTART:20251102T010000
TZOFFSETFROM:-0400
TZOFFSETTO:-0500
TZNAME:EST
END:STANDARD
END:VTIMEZONE
END:VCALENDAR